BEGIN:VCALENDAR
VERSION:2.0
PRODID:-//eventon.com NONSGML v1.0//EN
BEGIN:VEVENT
UID:69e4d24713124
DTSTAMP:20260419T150159
DTSTART:20180811T073000Z
DTEND:20180811T013000Z
LOCATION:Bauhof Miesenbach 
SUMMARY:Maytreeparty 2018: Landjugendfest mit Watersoccer
DESCRIPTION: Da bleibt kein Auge trocken: Die Maytreeparty 2018 hüpft ins Wasser Im wahrsten Sinn des Wortes: Denn heuer können sich erstmals Wasserratten mit Balltalent in Viererteams um das Watersoccer-Turnier bewerben\,  das am Vormittag des 11. August ausgetragen wird. Das alljährliche Landjugendfest in Miesenbach mit Maytreeparty findet natürlich auch in gewohnter[..]
END:VEVENT
END:VCALENDAR