BEGIN:VCALENDAR
VERSION:2.0
PRODID:-//eventon.com NONSGML v1.0//EN
BEGIN:VEVENT
UID:69e4cf27ac82e
DTSTAMP:20260419T144839
DTSTART:20180630T070000Z
DTEND:20180630T010000Z
LOCATION:TRAIL LAND Miesenbach Bergviertel 21
SUMMARY:TRAIL LAND Bike Opening Miesenbach
DESCRIPTION: Es rollt heran: Das TRAIL LAND Bike Opening 2018 Das ist der offizielle Start ins neue TRAIL LAND Miesenbach im Joglland - Waldheimat – ein Tag ganz im Zeichen des ersten steirischen Flow Trail Parks für die ganze Family. Testet die echten Fun-Strecken und testet auch die neuesten E-MTBs aus[..]
END:VEVENT
END:VCALENDAR