BEGIN:VCALENDAR
VERSION:2.0
PRODID:-//eventon.com NONSGML v1.0//EN
BEGIN:VEVENT
UID:69e4cc94f1aa3
DTSTAMP:20260419T143740
DTSTART:20250514T220000Z
DTEND:20250515T215900Z
LOCATION:Gemeindeamt Miesenbach 8190 Miesenbach bei Birkfeld\,  Dorfviertel 6
SUMMARY:Biotonne 2025
DESCRIPTION: Biotonne 2025
END:VEVENT
END:VCALENDAR