BEGIN:VCALENDAR
VERSION:2.0
PRODID:-//eventon.com NONSGML v1.0//EN
BEGIN:VEVENT
UID:69e4e16da643d
DTSTAMP:20260419T160637
DTSTART:20251221T220000Z
DTEND:20251222T215900Z
LOCATION:Gemeindeamt Miesenbach 8190 Miesenbach bei Birkfeld\,  Dorfviertel 6
SUMMARY:Altpapier Gewerbe
DESCRIPTION: Altpapier Gewerbe
END:VEVENT
END:VCALENDAR