BEGIN:VCALENDAR
VERSION:2.0
PRODID:-//eventon.com NONSGML v1.0//EN
BEGIN:VEVENT
UID:69e4edb30889e
DTSTAMP:20260419T165859
DTSTART:20170206T070000Z
DTEND:20170208T140000Z
LOCATION:Gasthof Wiesenhofer Bergviertel 21
SUMMARY:3. Kinderschikurs beim Wiesenhoferlift in Miesenbach
DESCRIPTION: Kinderschikurse beim Wiesenhoferlift Heuer gibt es in den Weihnachtferien gleich 3 Schikurse für unsere Jüngsten beim Wiesenhoferlift in Miesenbach. Staatlich anerkannte Schilehrer\,  lehren und verbessern hier die Schi-Techniken. Für Anfänger oder fortgeschrittene Jungsportler gleichermaßen geeignet – hier kommt jede/r kommt auf seine/ihre Kosten. [caption id="attachment_3365" align="aligncenter" width="640"] Hier werden die[..]
END:VEVENT
END:VCALENDAR