BEGIN:VCALENDAR
VERSION:2.0
PRODID:-//eventon.com NONSGML v1.0//EN
BEGIN:VEVENT
UID:69e4cf293500c
DTSTAMP:20260419T144841
DTSTART:20161113T081500Z
DTEND:20161113T093000Z
LOCATION:Pfarrkirche Miesenbach Dorfviertel 1\,  Miesenbach bei Birkfeld
SUMMARY:Ehesonntag der Pfarrgemeinde Miesenbach
DESCRIPTION: Am Ehesonntag der Pfarrgemeinde Miesenbach feiern wir unsere Miesenbacher Jubelpaare – um 10:15 Uhr in der Pfarrkirche Miesenbach
END:VEVENT
END:VCALENDAR