BEGIN:VCALENDAR
VERSION:2.0
PRODID:-//eventon.com NONSGML v1.0//EN
BEGIN:VEVENT
UID:69e4cf1b8b885
DTSTAMP:20260419T144827
DTSTART:20220804T220000Z
DTEND:20220805T215900Z
LOCATION:Gemeindeamt Miesenbach 8190 Miesenbach bei Birkfeld\,  Dorfviertel 6
SUMMARY:Restmüll 2022
DESCRIPTION: Restmüll 2022
END:VEVENT
END:VCALENDAR