BEGIN:VCALENDAR
VERSION:2.0
PRODID:-//eventon.com NONSGML v1.0//EN
BEGIN:VEVENT
UID:69e4cf1c95bc9
DTSTAMP:20260419T144828
DTSTART:20210120T220000Z
DTEND:20210121T215900Z
LOCATION:Gemeindeamt Miesenbach 8190 Miesenbach bei Birkfeld\,  Dorfviertel 6
SUMMARY:Restmüll 2021
DESCRIPTION: Restmüll 2021
END:VEVENT
END:VCALENDAR